Package: matchBox Version: 1.49.0 Command: /Library/Frameworks/R.framework/Resources/bin/R CMD build --keep-empty-dirs --no-resave-data matchBox StartedAt: 2025-02-18 16:49:37 -0500 (Tue, 18 Feb 2025) EndedAt: 2025-02-18 16:49:42 -0500 (Tue, 18 Feb 2025) EllapsedTime: 5.1 seconds RetCode: 0 Status: OK PackageFile: matchBox_1.49.0.tar.gz PackageFileSize: 605 KiB