Package: mastR Version: 1.7.0 Command: E:\biocbuild\bbs-3.21-bioc\R\bin\R.exe CMD INSTALL mastR StartedAt: 2025-02-20 16:56:10 -0500 (Thu, 20 Feb 2025) EndedAt: 2025-02-20 16:57:11 -0500 (Thu, 20 Feb 2025) EllapsedTime: 61.3 seconds RetCode: 0 Status: OK