Package: mastR Version: 1.7.0 Command: chmod a+r mastR -R && E:\biocbuild\bbs-3.21-bioc\R\bin\R.exe CMD build --keep-empty-dirs --no-resave-data mastR StartedAt: 2025-02-20 19:43:56 -0500 (Thu, 20 Feb 2025) EndedAt: 2025-02-20 19:47:37 -0500 (Thu, 20 Feb 2025) EllapsedTime: 221.5 seconds RetCode: 0 Status: OK PackageFile: mastR_1.7.0.tar.gz PackageFileSize: 1.821 MiB