Package: mastR Version: 1.7.0 Command: rm -rf mastR.buildbin-libdir && mkdir mastR.buildbin-libdir && E:\biocbuild\bbs-3.21-bioc\R\bin\R.exe CMD INSTALL --build --library=mastR.buildbin-libdir mastR_1.7.0.tar.gz StartedAt: 2025-02-21 08:27:48 -0500 (Fri, 21 Feb 2025) EndedAt: 2025-02-21 08:29:03 -0500 (Fri, 21 Feb 2025) EllapsedTime: 75.4 seconds RetCode: 0 Status: OK PackageFile: mastR_1.7.0.zip PackageFileSize: 2.023 MiB