Package: mastR Version: 1.7.0 Command: /home/biocbuild/bbs-3.21-bioc/R/bin/R CMD INSTALL mastR StartedAt: 2025-02-20 15:44:03 -0500 (Thu, 20 Feb 2025) EndedAt: 2025-02-20 15:44:44 -0500 (Thu, 20 Feb 2025) EllapsedTime: 41.1 seconds RetCode: 0 Status: OK