Package: mastR Version: 1.7.0 Command: /Library/Frameworks/R.framework/Resources/bin/R CMD build --keep-empty-dirs --no-resave-data mastR StartedAt: 2025-02-20 17:12:46 -0500 (Thu, 20 Feb 2025) EndedAt: 2025-02-20 17:15:15 -0500 (Thu, 20 Feb 2025) EllapsedTime: 148.8 seconds RetCode: 0 Status: OK PackageFile: mastR_1.7.0.tar.gz PackageFileSize: 3.108 MiB