Package: mastR Version: 1.7.0 Command: /Library/Frameworks/R.framework/Resources/bin/R CMD check --install=check:mastR.install-out.txt --library=/Library/Frameworks/R.framework/Resources/library --no-vignettes --timings mastR_1.7.0.tar.gz StartedAt: 2025-02-20 19:59:50 -0500 (Thu, 20 Feb 2025) EndedAt: 2025-02-20 20:03:45 -0500 (Thu, 20 Feb 2025) EllapsedTime: 234.8 seconds RetCode: 0 Status: OK CheckDir: mastR.Rcheck Warnings: 0