Package: massiR Version: 1.43.0 Command: E:\biocbuild\bbs-3.21-bioc\R\bin\R.exe CMD INSTALL massiR StartedAt: 2025-02-20 15:23:05 -0500 (Thu, 20 Feb 2025) EndedAt: 2025-02-20 15:23:17 -0500 (Thu, 20 Feb 2025) EllapsedTime: 12.2 seconds RetCode: 0 Status: OK