Package: massiR Version: 1.43.0 Command: chmod a+r massiR -R && E:\biocbuild\bbs-3.21-bioc\R\bin\R.exe CMD build --keep-empty-dirs --no-resave-data massiR StartedAt: 2025-02-20 19:43:39 -0500 (Thu, 20 Feb 2025) EndedAt: 2025-02-20 19:43:55 -0500 (Thu, 20 Feb 2025) EllapsedTime: 16.1 seconds RetCode: 0 Status: OK PackageFile: massiR_1.43.0.tar.gz PackageFileSize: 1.027 MiB