Package: massiR Version: 1.43.0 Command: /home/biocbuild/bbs-3.21-bioc/R/bin/R CMD check --install=check:massiR.install-out.txt --library=/home/biocbuild/bbs-3.21-bioc/R/site-library --timings massiR_1.43.0.tar.gz StartedAt: 2025-02-20 23:16:50 -0500 (Thu, 20 Feb 2025) EndedAt: 2025-02-20 23:17:20 -0500 (Thu, 20 Feb 2025) EllapsedTime: 30.0 seconds RetCode: 0 Status: OK CheckDir: massiR.Rcheck Warnings: 0