Package: maskBAD Version: 1.51.0 Command: E:\biocbuild\bbs-3.21-bioc\R\bin\R.exe CMD INSTALL maskBAD StartedAt: 2025-02-18 15:39:28 -0500 (Tue, 18 Feb 2025) EndedAt: 2025-02-18 15:39:52 -0500 (Tue, 18 Feb 2025) EllapsedTime: 23.5 seconds RetCode: 0 Status: OK