Package: martini Version: 1.27.0 Command: /home/biocbuild/bbs-3.21-bioc/R/bin/R CMD INSTALL martini StartedAt: 2025-02-19 15:14:06 -0500 (Wed, 19 Feb 2025) EndedAt: 2025-02-19 15:14:26 -0500 (Wed, 19 Feb 2025) EllapsedTime: 19.4 seconds RetCode: 0 Status: OK