Package: martini Version: 1.27.0 Command: /Library/Frameworks/R.framework/Resources/bin/R CMD build --keep-empty-dirs --no-resave-data martini StartedAt: 2025-02-19 17:12:40 -0500 (Wed, 19 Feb 2025) EndedAt: 2025-02-19 17:13:10 -0500 (Wed, 19 Feb 2025) EllapsedTime: 29.7 seconds RetCode: 0 Status: OK PackageFile: martini_1.27.0.tar.gz PackageFileSize: 3.014 MiB