Package: martini Version: 1.27.0 Command: rm -rf martini.buildbin-libdir && mkdir martini.buildbin-libdir && /Users/biocbuild/BBS/utils/build-universal.sh martini_1.27.0.tar.gz /Library/Frameworks/R.framework/Resources/bin/R martini.buildbin-libdir StartedAt: 2025-02-20 00:39:25 -0500 (Thu, 20 Feb 2025) EndedAt: 2025-02-20 00:39:55 -0500 (Thu, 20 Feb 2025) EllapsedTime: 30.2 seconds RetCode: 0 Status: OK PackageFile: martini_1.27.0.tgz PackageFileSize: 723 KiB