Package: martini Version: 1.27.0 Command: /home/biocbuild/R/R/bin/R CMD build --keep-empty-dirs --no-resave-data martini StartedAt: 2025-01-29 00:00:11 -0000 (Wed, 29 Jan 2025) EndedAt: 2025-01-29 00:00:47 -0000 (Wed, 29 Jan 2025) EllapsedTime: 36.0 seconds RetCode: 0 Status: OK PackageFile: martini_1.27.0.tar.gz PackageFileSize: 2.919 MiB