Package: marray Version: 1.85.0 Command: rm -rf marray.buildbin-libdir && mkdir marray.buildbin-libdir && E:\biocbuild\bbs-3.21-bioc\R\bin\R.exe CMD INSTALL --build --library=marray.buildbin-libdir marray_1.85.0.tar.gz StartedAt: 2025-02-21 08:27:18 -0500 (Fri, 21 Feb 2025) EndedAt: 2025-02-21 08:28:45 -0500 (Fri, 21 Feb 2025) EllapsedTime: 87.5 seconds RetCode: 0 Status: OK PackageFile: marray_1.85.0.zip PackageFileSize: 5.27 MiB