Package: marray Version: 1.85.0 Command: /home/biocbuild/bbs-3.21-bioc/R/bin/R CMD INSTALL marray StartedAt: 2025-02-20 15:02:40 -0500 (Thu, 20 Feb 2025) EndedAt: 2025-02-20 15:02:46 -0500 (Thu, 20 Feb 2025) EllapsedTime: 6.4 seconds RetCode: 0 Status: OK