Package: marr Version: 1.17.0 Command: E:\biocbuild\bbs-3.21-bioc\R\bin\R.exe CMD check --no-multiarch --install=check:marr.install-out.txt --library=E:\biocbuild\bbs-3.21-bioc\R\library --no-vignettes --timings marr_1.17.0.tar.gz StartedAt: 2025-02-21 02:49:55 -0500 (Fri, 21 Feb 2025) EndedAt: 2025-02-21 02:54:05 -0500 (Fri, 21 Feb 2025) EllapsedTime: 250.3 seconds RetCode: 0 Status: OK CheckDir: marr.Rcheck Warnings: 0