Package: marr Version: 1.17.0 Command: chmod a+r marr -R && E:\biocbuild\bbs-3.21-bioc\R\bin\R.exe CMD build --keep-empty-dirs --no-resave-data marr StartedAt: 2025-02-20 19:42:41 -0500 (Thu, 20 Feb 2025) EndedAt: 2025-02-20 19:43:54 -0500 (Thu, 20 Feb 2025) EllapsedTime: 72.5 seconds RetCode: 0 Status: OK PackageFile: marr_1.17.0.tar.gz PackageFileSize: 584.1 KiB