Package: marr Version: 1.17.0 Command: rm -rf marr.buildbin-libdir && mkdir marr.buildbin-libdir && E:\biocbuild\bbs-3.21-bioc\R\bin\R.exe CMD INSTALL --build --library=marr.buildbin-libdir marr_1.17.0.tar.gz StartedAt: 2025-02-21 08:27:16 -0500 (Fri, 21 Feb 2025) EndedAt: 2025-02-21 08:28:09 -0500 (Fri, 21 Feb 2025) EllapsedTime: 53.2 seconds RetCode: 0 Status: OK PackageFile: marr_1.17.0.zip PackageFileSize: 1.091 MiB