Package: marr Version: 1.17.0 Command: /home/biocbuild/bbs-3.21-bioc/R/bin/R CMD INSTALL marr StartedAt: 2025-02-20 15:28:33 -0500 (Thu, 20 Feb 2025) EndedAt: 2025-02-20 15:29:03 -0500 (Thu, 20 Feb 2025) EllapsedTime: 30.3 seconds RetCode: 0 Status: OK