Package: marr Version: 1.17.0 Command: /home/biocbuild/bbs-3.21-bioc/R/bin/R CMD build --keep-empty-dirs --no-resave-data marr StartedAt: 2025-02-20 18:02:18 -0500 (Thu, 20 Feb 2025) EndedAt: 2025-02-20 18:03:04 -0500 (Thu, 20 Feb 2025) EllapsedTime: 46.0 seconds RetCode: 0 Status: OK PackageFile: marr_1.17.0.tar.gz PackageFileSize: 619.9 KiB