Package: mariner Version: 1.7.0 Command: /home/biocbuild/bbs-3.21-bioc/R/bin/R CMD INSTALL mariner StartedAt: 2025-02-19 15:34:51 -0500 (Wed, 19 Feb 2025) EndedAt: 2025-02-19 15:35:31 -0500 (Wed, 19 Feb 2025) EllapsedTime: 40.5 seconds RetCode: 0 Status: OK