Package: mariner Version: 1.7.0 Command: /home/biocbuild/bbs-3.21-bioc/R/bin/R CMD check --install=check:mariner.install-out.txt --library=/home/biocbuild/bbs-3.21-bioc/R/site-library --timings mariner_1.7.0.tar.gz StartedAt: 2025-02-20 23:15:27 -0500 (Thu, 20 Feb 2025) EndedAt: 2025-02-20 23:26:20 -0500 (Thu, 20 Feb 2025) EllapsedTime: 653.0 seconds RetCode: 0 Status: OK CheckDir: mariner.Rcheck Warnings: 0