Package: mariner Version: 1.7.0 Command: /Library/Frameworks/R.framework/Resources/bin/R CMD build --keep-empty-dirs --no-resave-data mariner StartedAt: 2025-02-20 17:12:11 -0500 (Thu, 20 Feb 2025) EndedAt: 2025-02-20 17:14:17 -0500 (Thu, 20 Feb 2025) EllapsedTime: 125.8 seconds RetCode: 0 Status: OK PackageFile: mariner_1.7.0.tar.gz PackageFileSize: 707.9 KiB