Package: mariner Version: 1.7.0 Command: /Library/Frameworks/R.framework/Resources/bin/R CMD check --install=check:mariner.install-out.txt --library=/Library/Frameworks/R.framework/Resources/library --no-vignettes --timings mariner_1.7.0.tar.gz StartedAt: 2025-02-20 19:58:35 -0500 (Thu, 20 Feb 2025) EndedAt: 2025-02-20 20:02:39 -0500 (Thu, 20 Feb 2025) EllapsedTime: 243.9 seconds RetCode: 0 Status: OK CheckDir: mariner.Rcheck Warnings: 0