Package: mariner Version: 1.7.0 Command: /Library/Frameworks/R.framework/Resources/bin/R CMD build --keep-empty-dirs --no-resave-data mariner StartedAt: 2025-02-20 16:48:33 -0500 (Thu, 20 Feb 2025) EndedAt: 2025-02-20 16:49:20 -0500 (Thu, 20 Feb 2025) EllapsedTime: 47.6 seconds RetCode: 0 Status: OK PackageFile: mariner_1.7.0.tar.gz PackageFileSize: 708.4 KiB