Package: mapscape Version: 1.31.0 Command: /Library/Frameworks/R.framework/Resources/bin/R CMD check --install=check:mapscape.install-out.txt --library=/Library/Frameworks/R.framework/Resources/library --no-vignettes --timings mapscape_1.31.0.tar.gz StartedAt: 2025-02-19 21:22:25 -0500 (Wed, 19 Feb 2025) EndedAt: 2025-02-19 21:22:54 -0500 (Wed, 19 Feb 2025) EllapsedTime: 29.7 seconds RetCode: 0 Status: WARNINGS CheckDir: mapscape.Rcheck Warnings: 1