Package: makecdfenv Version: 1.83.1 Command: /home/biocbuild/bbs-3.21-bioc/R/bin/R CMD INSTALL makecdfenv StartedAt: 2025-02-20 15:22:01 -0500 (Thu, 20 Feb 2025) EndedAt: 2025-02-20 15:22:06 -0500 (Thu, 20 Feb 2025) EllapsedTime: 4.5 seconds RetCode: 0 Status: OK