Package: makecdfenv Version: 1.83.1 Command: /Library/Frameworks/R.framework/Resources/bin/R CMD INSTALL makecdfenv StartedAt: 2025-02-21 15:02:16 -0500 (Fri, 21 Feb 2025) EndedAt: 2025-02-21 15:02:21 -0500 (Fri, 21 Feb 2025) EllapsedTime: 4.9 seconds RetCode: 0 Status: OK