Package: magrene Version: 1.9.0 Command: /home/biocbuild/bbs-3.21-bioc/R/bin/R CMD INSTALL magrene StartedAt: 2025-02-18 15:04:01 -0500 (Tue, 18 Feb 2025) EndedAt: 2025-02-18 15:04:04 -0500 (Tue, 18 Feb 2025) EllapsedTime: 2.8 seconds RetCode: 0 Status: OK