Package: magrene Version: 1.9.0 Command: /Library/Frameworks/R.framework/Resources/bin/R CMD check --install=check:magrene.install-out.txt --library=/Library/Frameworks/R.framework/Resources/library --no-vignettes --timings magrene_1.9.0.tar.gz StartedAt: 2025-02-18 21:15:59 -0500 (Tue, 18 Feb 2025) EndedAt: 2025-02-18 21:17:10 -0500 (Tue, 18 Feb 2025) EllapsedTime: 71.1 seconds RetCode: 0 Status: OK CheckDir: magrene.Rcheck Warnings: 0