Package: magrene Version: 1.9.0 Command: /Library/Frameworks/R.framework/Resources/bin/R CMD build --keep-empty-dirs --no-resave-data magrene StartedAt: 2025-02-18 17:10:08 -0500 (Tue, 18 Feb 2025) EndedAt: 2025-02-18 17:10:58 -0500 (Tue, 18 Feb 2025) EllapsedTime: 50.3 seconds RetCode: 0 Status: OK PackageFile: magrene_1.9.0.tar.gz PackageFileSize: 2.256 MiB