Package: magpie Version: 1.7.0 Command: chmod a+r magpie -R && E:\biocbuild\bbs-3.21-bioc\R\bin\R.exe CMD build --keep-empty-dirs --no-resave-data magpie StartedAt: 2025-02-20 19:41:33 -0500 (Thu, 20 Feb 2025) EndedAt: 2025-02-20 19:42:52 -0500 (Thu, 20 Feb 2025) EllapsedTime: 79.3 seconds RetCode: 0 Status: OK PackageFile: magpie_1.7.0.tar.gz PackageFileSize: 1.539 MiB