Package: magpie Version: 1.7.0 Command: rm -rf magpie.buildbin-libdir && mkdir magpie.buildbin-libdir && E:\biocbuild\bbs-3.21-bioc\R\bin\R.exe CMD INSTALL --build --library=magpie.buildbin-libdir magpie_1.7.0.tar.gz StartedAt: 2025-02-21 08:26:42 -0500 (Fri, 21 Feb 2025) EndedAt: 2025-02-21 08:27:55 -0500 (Fri, 21 Feb 2025) EllapsedTime: 73.2 seconds RetCode: 0 Status: OK PackageFile: magpie_1.7.0.zip PackageFileSize: 1.364 MiB