Package: maftools Version: 2.23.0 Command: chmod a+r maftools -R && E:\biocbuild\bbs-3.21-bioc\R\bin\R.exe CMD build --keep-empty-dirs --no-resave-data maftools StartedAt: 2025-02-19 19:39:45 -0500 (Wed, 19 Feb 2025) EndedAt: 2025-02-19 19:43:56 -0500 (Wed, 19 Feb 2025) EllapsedTime: 251.1 seconds RetCode: 0 Status: OK PackageFile: maftools_2.23.0.tar.gz PackageFileSize: 9.015 MiB