Package: made4 Version: 1.81.0 Command: chmod a+r made4 -R && E:\biocbuild\bbs-3.21-bioc\R\bin\R.exe CMD build --keep-empty-dirs --no-resave-data made4 StartedAt: 2025-02-20 19:41:12 -0500 (Thu, 20 Feb 2025) EndedAt: 2025-02-20 19:42:20 -0500 (Thu, 20 Feb 2025) EllapsedTime: 67.8 seconds RetCode: 0 Status: OK PackageFile: made4_1.81.0.tar.gz PackageFileSize: 1.623 MiB