Package: made4 Version: 1.81.0 Command: /Library/Frameworks/R.framework/Resources/bin/R CMD INSTALL made4 StartedAt: 2025-02-20 15:09:55 -0500 (Thu, 20 Feb 2025) EndedAt: 2025-02-20 15:10:26 -0500 (Thu, 20 Feb 2025) EllapsedTime: 30.5 seconds RetCode: 0 Status: OK