Package: made4 Version: 1.81.0 Command: /Library/Frameworks/R.framework/Resources/bin/R CMD build --keep-empty-dirs --no-resave-data made4 StartedAt: 2025-02-20 17:11:27 -0500 (Thu, 20 Feb 2025) EndedAt: 2025-02-20 17:12:13 -0500 (Thu, 20 Feb 2025) EllapsedTime: 45.9 seconds RetCode: 0 Status: OK PackageFile: made4_1.81.0.tar.gz PackageFileSize: 2.508 MiB