Package: maaslin3 Version: 0.99.4 Command: /home/biocbuild/bbs-3.21-bioc/R/bin/R CMD build --keep-empty-dirs --no-resave-data maaslin3 StartedAt: 2025-02-18 17:47:57 -0500 (Tue, 18 Feb 2025) EndedAt: 2025-02-18 17:56:10 -0500 (Tue, 18 Feb 2025) EllapsedTime: 492.6 seconds RetCode: 0 Status: OK PackageFile: maaslin3_0.99.4.tar.gz PackageFileSize: 1.371 MiB