Package: maaslin3 Version: 0.99.4 Command: /Library/Frameworks/R.framework/Resources/bin/R CMD build --keep-empty-dirs --no-resave-data maaslin3 StartedAt: 2025-02-19 16:48:09 -0500 (Wed, 19 Feb 2025) EndedAt: 2025-02-19 16:51:24 -0500 (Wed, 19 Feb 2025) EllapsedTime: 195.2 seconds RetCode: 0 Status: OK PackageFile: maaslin3_0.99.4.tar.gz PackageFileSize: 1.372 MiB