Package: maaslin3 Version: 0.99.4 Maintainer: William Nickols MaintainerEmail: willnickols at g.harvard.edu git_url: https://git.bioconductor.org/packages/maaslin3 git_branch: devel git_last_commit: 05599a9 git_last_commit_date: 2025-01-31 13:14:26 -0500 (Fri, 31 Jan 2025)