Package: maSigPro Version: 1.79.0 Command: /home/biocbuild/bbs-3.21-bioc/R/bin/R CMD INSTALL maSigPro StartedAt: 2025-02-20 15:21:06 -0500 (Thu, 20 Feb 2025) EndedAt: 2025-02-20 15:21:09 -0500 (Thu, 20 Feb 2025) EllapsedTime: 3.9 seconds RetCode: 0 Status: OK