Package: maSigPro Version: 1.79.0 Command: /home/biocbuild/bbs-3.21-bioc/R/bin/R CMD check --install=check:maSigPro.install-out.txt --library=/home/biocbuild/bbs-3.21-bioc/R/site-library --timings maSigPro_1.79.0.tar.gz StartedAt: 2025-02-20 23:15:54 -0500 (Thu, 20 Feb 2025) EndedAt: 2025-02-20 23:18:05 -0500 (Thu, 20 Feb 2025) EllapsedTime: 131.1 seconds RetCode: 0 Status: OK CheckDir: maSigPro.Rcheck Warnings: 0