Package: maSigPro Version: 1.79.0 Command: /Library/Frameworks/R.framework/Resources/bin/R CMD INSTALL maSigPro StartedAt: 2025-02-19 15:04:49 -0500 (Wed, 19 Feb 2025) EndedAt: 2025-02-19 15:05:14 -0500 (Wed, 19 Feb 2025) EllapsedTime: 25.0 seconds RetCode: 0 Status: OK