Package: maSigPro Version: 1.79.0 Command: /Library/Frameworks/R.framework/Resources/bin/R CMD build --keep-empty-dirs --no-resave-data maSigPro StartedAt: 2025-02-20 16:48:55 -0500 (Thu, 20 Feb 2025) EndedAt: 2025-02-20 16:49:00 -0500 (Thu, 20 Feb 2025) EllapsedTime: 5.1 seconds RetCode: 0 Status: OK PackageFile: maSigPro_1.79.0.tar.gz PackageFileSize: 1.511 MiB