Package: maPredictDSC Version: 1.45.0 Command: rm -rf maPredictDSC.buildbin-libdir && mkdir maPredictDSC.buildbin-libdir && E:\biocbuild\bbs-3.21-bioc\R\bin\R.exe CMD INSTALL --build --library=maPredictDSC.buildbin-libdir maPredictDSC_1.45.0.tar.gz StartedAt: 2025-02-21 08:27:09 -0500 (Fri, 21 Feb 2025) EndedAt: 2025-02-21 08:27:51 -0500 (Fri, 21 Feb 2025) EllapsedTime: 42.0 seconds RetCode: 0 Status: OK PackageFile: maPredictDSC_1.45.0.zip PackageFileSize: 135.2 KiB