Package: maPredictDSC Version: 1.45.0 Command: /home/biocbuild/bbs-3.21-bioc/R/bin/R CMD build --keep-empty-dirs --no-resave-data maPredictDSC StartedAt: 2025-02-20 18:02:05 -0500 (Thu, 20 Feb 2025) EndedAt: 2025-02-20 18:03:27 -0500 (Thu, 20 Feb 2025) EllapsedTime: 82.1 seconds RetCode: 0 Status: OK PackageFile: maPredictDSC_1.45.0.tar.gz PackageFileSize: 197.3 KiB