Package: maPredictDSC Version: 1.45.0 Command: /Library/Frameworks/R.framework/Resources/bin/R CMD check --install=check:maPredictDSC.install-out.txt --library=/Library/Frameworks/R.framework/Resources/library --no-vignettes --timings maPredictDSC_1.45.0.tar.gz StartedAt: 2025-02-20 21:21:29 -0500 (Thu, 20 Feb 2025) EndedAt: 2025-02-20 21:25:49 -0500 (Thu, 20 Feb 2025) EllapsedTime: 259.7 seconds RetCode: 0 Status: OK CheckDir: maPredictDSC.Rcheck Warnings: 0