Package: maPredictDSC Version: 1.45.0 Command: /Library/Frameworks/R.framework/Resources/bin/R CMD build --keep-empty-dirs --no-resave-data maPredictDSC StartedAt: 2025-02-20 16:48:29 -0500 (Thu, 20 Feb 2025) EndedAt: 2025-02-20 16:49:04 -0500 (Thu, 20 Feb 2025) EllapsedTime: 35.4 seconds RetCode: 0 Status: OK PackageFile: maPredictDSC_1.45.0.tar.gz PackageFileSize: 197.3 KiB